BEGIN:VCALENDAR
VERSION:2.0
PRODID:-//TRR 266 Accounting for Transparency - ECPv6.15.17.1//NONSGML v1.0//EN
CALSCALE:GREGORIAN
METHOD:PUBLISH
X-ORIGINAL-URL:https://www.accounting-for-transparency.de
X-WR-CALDESC:Events for TRR 266 Accounting for Transparency
REFRESH-INTERVAL;VALUE=DURATION:PT1H
X-Robots-Tag:noindex
X-PUBLISHED-TTL:PT1H
BEGIN:VTIMEZONE
TZID:Europe/Berlin
BEGIN:DAYLIGHT
TZOFFSETFROM:+0100
TZOFFSETTO:+0200
TZNAME:CEST
DTSTART:20240331T010000
END:DAYLIGHT
BEGIN:STANDARD
TZOFFSETFROM:+0200
TZOFFSETTO:+0100
TZNAME:CET
DTSTART:20241027T010000
END:STANDARD
BEGIN:DAYLIGHT
TZOFFSETFROM:+0100
TZOFFSETTO:+0200
TZNAME:CEST
DTSTART:20250330T010000
END:DAYLIGHT
BEGIN:STANDARD
TZOFFSETFROM:+0200
TZOFFSETTO:+0100
TZNAME:CET
DTSTART:20251026T010000
END:STANDARD
BEGIN:DAYLIGHT
TZOFFSETFROM:+0100
TZOFFSETTO:+0200
TZNAME:CEST
DTSTART:20260329T010000
END:DAYLIGHT
BEGIN:STANDARD
TZOFFSETFROM:+0200
TZOFFSETTO:+0100
TZNAME:CET
DTSTART:20261025T010000
END:STANDARD
END:VTIMEZONE
BEGIN:VEVENT
DTSTART;TZID=Europe/Berlin:20251209T120000
DTEND;TZID=Europe/Berlin:20251209T133000
DTSTAMP:20260423T010923
CREATED:20250930T075110Z
LAST-MODIFIED:20260217T085050Z
UID:23897-1765281600-1765287000@www.accounting-for-transparency.de
SUMMARY:Presentation by Kris Allee (University of Arkansas)
DESCRIPTION:As part of the TRR 266 Seminar Series\, Kris Allee from University of Arkansas will hold a presentation on ”Analyst CapEx Forecasts and Debt Contracting”
URL:https://www.accounting-for-transparency.de/event/presentation-by-kris-allee-university-of-arkansas-2/
LOCATION:LMU Munich\, Ludwigstrasse 28 RG\, room 329\, Munich\, 80539\, Germany
CATEGORIES:TRR 266 Lecture Series
END:VEVENT
END:VCALENDAR