BEGIN:VCALENDAR
VERSION:2.0
PRODID:-//TRR 266 Accounting for Transparency - ECPv6.15.17.1//NONSGML v1.0//EN
CALSCALE:GREGORIAN
METHOD:PUBLISH
X-WR-CALNAME:TRR 266 Accounting for Transparency
X-ORIGINAL-URL:https://www.accounting-for-transparency.de
X-WR-CALDESC:Events for TRR 266 Accounting for Transparency
REFRESH-INTERVAL;VALUE=DURATION:PT1H
X-Robots-Tag:noindex
X-PUBLISHED-TTL:PT1H
BEGIN:VTIMEZONE
TZID:Europe/Berlin
BEGIN:DAYLIGHT
TZOFFSETFROM:+0100
TZOFFSETTO:+0200
TZNAME:CEST
DTSTART:20250330T010000
END:DAYLIGHT
BEGIN:STANDARD
TZOFFSETFROM:+0200
TZOFFSETTO:+0100
TZNAME:CET
DTSTART:20251026T010000
END:STANDARD
BEGIN:DAYLIGHT
TZOFFSETFROM:+0100
TZOFFSETTO:+0200
TZNAME:CEST
DTSTART:20260329T010000
END:DAYLIGHT
BEGIN:STANDARD
TZOFFSETFROM:+0200
TZOFFSETTO:+0100
TZNAME:CET
DTSTART:20261025T010000
END:STANDARD
BEGIN:DAYLIGHT
TZOFFSETFROM:+0100
TZOFFSETTO:+0200
TZNAME:CEST
DTSTART:20270328T010000
END:DAYLIGHT
BEGIN:STANDARD
TZOFFSETFROM:+0200
TZOFFSETTO:+0100
TZNAME:CET
DTSTART:20271031T010000
END:STANDARD
END:VTIMEZONE
BEGIN:VEVENT
DTSTART;TZID=Europe/Berlin:20260212T140000
DTEND;TZID=Europe/Berlin:20260212T160000
DTSTAMP:20260422T221523
CREATED:20250902T091410Z
LAST-MODIFIED:20251007T112017Z
UID:23696-1770904800-1770912000@www.accounting-for-transparency.de
SUMMARY:Presentation by David Windisch (University of Graz\, School of Business\, Economics and Social Sciences)
DESCRIPTION:As part of the TRR 266 Seminar Series\, David Windisch from University of Graz\, School of Business\, Economics and Social Sciences will hold a presentation.
URL:https://www.accounting-for-transparency.de/event/presentation-by-david-windisch-university-of-graz-school-of-business-economics-and-social-sciences/
LOCATION:Humboldt-Universität zu Berlin\, Spandauer Str. 1\, Berlin\, 10178\, Germany
CATEGORIES:TRR 266 Seminar Series
END:VEVENT
END:VCALENDAR